BEGIN:VCALENDAR
VERSION:2.0
PRODID:-//Ayuntamiento de Redován - ECPv6.15.15//NONSGML v1.0//EN
CALSCALE:GREGORIAN
METHOD:PUBLISH
X-ORIGINAL-URL:https://www.redovan.es
X-WR-CALDESC:Eventos para Ayuntamiento de Redován
REFRESH-INTERVAL;VALUE=DURATION:PT1H
X-Robots-Tag:noindex
X-PUBLISHED-TTL:PT1H
BEGIN:VTIMEZONE
TZID:Europe/Madrid
BEGIN:DAYLIGHT
TZOFFSETFROM:+0100
TZOFFSETTO:+0200
TZNAME:CEST
DTSTART:20230326T010000
END:DAYLIGHT
BEGIN:STANDARD
TZOFFSETFROM:+0200
TZOFFSETTO:+0100
TZNAME:CET
DTSTART:20231029T010000
END:STANDARD
BEGIN:DAYLIGHT
TZOFFSETFROM:+0100
TZOFFSETTO:+0200
TZNAME:CEST
DTSTART:20240331T010000
END:DAYLIGHT
BEGIN:STANDARD
TZOFFSETFROM:+0200
TZOFFSETTO:+0100
TZNAME:CET
DTSTART:20241027T010000
END:STANDARD
BEGIN:DAYLIGHT
TZOFFSETFROM:+0100
TZOFFSETTO:+0200
TZNAME:CEST
DTSTART:20250330T010000
END:DAYLIGHT
BEGIN:STANDARD
TZOFFSETFROM:+0200
TZOFFSETTO:+0100
TZNAME:CET
DTSTART:20251026T010000
END:STANDARD
BEGIN:DAYLIGHT
TZOFFSETFROM:+0100
TZOFFSETTO:+0200
TZNAME:CEST
DTSTART:20260329T010000
END:DAYLIGHT
BEGIN:STANDARD
TZOFFSETFROM:+0200
TZOFFSETTO:+0100
TZNAME:CET
DTSTART:20261025T010000
END:STANDARD
END:VTIMEZONE
BEGIN:VEVENT
DTSTART;TZID=Europe/Madrid:20250425T093000
DTEND;TZID=Europe/Madrid:20250425T103000
DTSTAMP:20260426T055536
CREATED:20250423T081023Z
LAST-MODIFIED:20250423T081218Z
UID:10000054-1745573400-1745577000@www.redovan.es
SUMMARY:Junta de Gobierno Local 25 de abril de 2025
DESCRIPTION:Tipo Convocatoria: Ordinaria \nFecha y hora:\n1ª convocatoria: 25 de abril de 2025 a las 9:30\n2ª convocatoria: 28 de abril de 2025 a las 9:30 \nASUNTOS DE LA CONVOCATORIA \n\nAprobación del acta de la sesión anterior.\nExpediente 386/2025. Aprobación memoria actuación denominada «Asfaltado y mejora de la Senda Masquefa de Redován»\, y solicitud de subvención a la Excma. Diputación de Alicante. Línea B) Obras y\nactuaciones de inversión en caminos.\nExpediente 404/2025. Aprobación solicitud subvención Convocatoria Convenio SEPE-CCLL para el Proyecto denominado «Limpieza y mantenimiento de barrancos\, caminos rurales\, Área Recreativa La\nErmita\, calles y plazas del T.M. de Redován».\nExpediente 412/2025. Subvención programas y actividades igualdad de oportunidades y prevención violencia de genero\, anualidad 2025 Expediente 9/2025. Bonificaciones agua familia numerosa_personas\nsituación desempleo\nExpediente 361/2025. Aprobación bases Ayudas sociales material escolar 2º Ciclo Educación Infantil. Curso 2024-2025\nExpediente 932/2021. Contrataciones – Acuerdo de aprobación de la 2ª última prórroga del Contrato de Servicios de mantenimiento de las plazas y parques del municipio de Redován.\nExpediente 529/2024. Contrataciones – Acuerdo de aprobación de la 1ª prórroga del Contrato de servicios por procedimiento negociado sin publicidad adjudicación directa a la Unión Musical de Redován de\nvarias actuaciones musicales en el municipio de Redován.\nAsuntos Urgentes.\nRuegos y Preguntas
URL:https://www.redovan.es/event/junta-de-gobierno-local-25-de-abril-de-2025/
CATEGORIES:Junta de Gobierno
END:VEVENT
BEGIN:VEVENT
DTSTART;TZID=Europe/Madrid:20250221T093000
DTEND;TZID=Europe/Madrid:20250221T223000
DTSTAMP:20260426T055536
CREATED:20250219T113305Z
LAST-MODIFIED:20250219T113305Z
UID:10000051-1740130200-1740177000@www.redovan.es
SUMMARY:Junta de Gobierno Local
DESCRIPTION:Tipo Convocatoria: Ordinaria. \nFecha y hora:\n1ª convocatoria: 21 de febrero de 2025 a las 9:30h.\n2ª convocatoria: 24 de febrero de 2025 a las 9:30h. \nLugar\nSalón de Sesiones. \nAsuntos de la convocatoria:\n1. Aprobación del acta de la sesión anterior. \n2. Expediente 71/2025. Contrataciones – Acuerdo de aprobación del expediente de Contratación del Servicio de Dirección de Obra y Coordinación de Seguridad y Salud para obras de mejoras de\ninfraestructuras hidráulicas en Redován\, por procedimiento abierto simplificado. \n3.Expediente 9/2025_Bonificaciones agua familia numerosa_desempleo \n4. Expediente 140/2025. Solicitud subvención a Diputación Actuación es Área Desarrollo Económico y Sectores Productivos. – Línea 2. Plan de Modernización de Mercados Municipales. – Línea 3. Promoción Económica. – Línea 7. Huertos Urbanos Municipales. Inversión. \n5. Expediente 529/2024. Contrataciones – Acuerdo de nombramiento del responsable del contrato de servicios por procedimiento negociado sin publicidad para la adjudicación directa a la Unión Musical de Redován de varias actuaciones musicales en el municipio de Redován. \n6. Expediente 718/2024. Contrataciones – Acuerdo de nombramiento del responsable del contrato basado en el Acuerdo Marco de Servicios de Seguros AMA 6O-327/2022 – Lote 3 Flota de vehículos – Central de Contratcación de la Diputación de Alicante. \n7.Asuntos Urgentes. \n8. Ruegos y Preguntas
URL:https://www.redovan.es/event/junta-de-gobierno-local-6/
CATEGORIES:Junta de Gobierno
ATTACH;FMTTYPE=image/jpeg:https://www.redovan.es/wp-content/uploads/2024/11/Junta.jpg
END:VEVENT
BEGIN:VEVENT
DTSTART;TZID=Europe/Madrid:20241129T093000
DTEND;TZID=Europe/Madrid:20241129T103000
DTSTAMP:20260426T055536
CREATED:20241128T093614Z
LAST-MODIFIED:20241128T093614Z
UID:10000043-1732872600-1732876200@www.redovan.es
SUMMARY:Junta de Gobierno Local
DESCRIPTION:Tipo Convocatoria: Ordinaria. \nFecha y hora:\n1ª convocatoria: 29 de noviembre de 2024 a las 9:30h.\n2ª convocatoria:2 de diciembre de 2024 a las 9:30h. \nLugar\nSalón de Sesiones. \nAsuntos de la convocatoria:  \n\nAprobación del acta de la sesión anterior.\nExpediente 82/2022. Contrataciones -Acuerdo de nombramiento del responsable del contrato de «Suministro de materiales de oficina y papel en diversos formatos para el Excmo. Ayuntamiento de Redován.»\nExpediente 932/2021. Contrataciones – Acuerdo de nombramiento de responsable del contrato de «Servicios de mantenimiento de las plazas y parques del municipio de Redován.»\nExpediente 1082/2024. Aprobación relación de facturas F/2024/\nExpediente 674/2024. Contrataciones – Acuerdo de nombramiento del responsable del Contrato Basado en el «Acuerdo Marco Suministro de Energía Eléctrica con garantía de origen 100 por 100 renovable -AMS6O-007/2024 – Central de Contratación de la Diputación Pcial. de Alicante.»\nAsuntos Urgentes.\nRuegos y Preguntas\n\n  \n 
URL:https://www.redovan.es/event/junta-de-gobierno-local-5/
CATEGORIES:Junta de Gobierno
ATTACH;FMTTYPE=image/jpeg:https://www.redovan.es/wp-content/uploads/2024/11/Junta.jpg
END:VEVENT
BEGIN:VEVENT
DTSTART;TZID=Europe/Madrid:20240920T093000
DTEND;TZID=Europe/Madrid:20240920T223000
DTSTAMP:20260426T055536
CREATED:20240917T155332Z
LAST-MODIFIED:20240917T155332Z
UID:10000035-1726824600-1726871400@www.redovan.es
SUMMARY:Junta de Gobierno Local 20/09/2024
DESCRIPTION:Tipo Convocatoria: Ordinaria. \nFecha y hora:\n1ª convocatoria: 20 de septiembre de 2024 a las 9:30h.\n2ª convocatoria: 23 de septiembre de 2024 a las 9:30h. \nLugar:\nSalón de Sesiones. \nAsuntos de la convocatoria:  \n\nAprobación del acta de la sesión anterior.\nExpediente 595/2024. Selecciones de Personal y Provisiones de Puestos.- Aprobación Bases y convocatoria para la Provisión Temporal del Puesto de Administrativo de Administración General- Responsable de Contratación y Subvenciones mediante Nombramiento Provisional por Mejora de Empleo.\nExpediente 690/2021. Contrataciones – Acuerdo de aprobación de la 3ª prórroga del contrato de servicios de gestión de nóminas\, contratos y asesoramiento laboral y fiscal del Ayuntamiento de Redován.\nExpediente 978/2023. Contrataciones – Acuerdo de aprobación 1ª prórroga del contrato de servicios de desarrollo del Programa de mejora de la condición física en personas mayores «MAYOR ACTIVO» en el término municipal de Redován.\nExpediente 788/2023. Contrataciones – Acuerdo de aprobación de la 1ª prórroga única del Contrato de Concesión de Servicio de Gestión de la Escuela Infantil Municipal «Pasitos» de Redován.\nAsuntos Urgentes.\nRuegos y Preguntas.
URL:https://www.redovan.es/event/junta-de-gobierno-local-20-09-2024/
CATEGORIES:Junta de Gobierno
ATTACH;FMTTYPE=image/jpeg:https://www.redovan.es/wp-content/uploads/2024/06/JUNTA-DE-GOBIERNO-LOCAL.jpg
END:VEVENT
BEGIN:VEVENT
DTSTART;TZID=Europe/Madrid:20240722T093000
DTEND;TZID=Europe/Madrid:20240722T103000
DTSTAMP:20260426T055536
CREATED:20240718T141351Z
LAST-MODIFIED:20240718T141351Z
UID:10000013-1721640600-1721644200@www.redovan.es
SUMMARY:Junta de Gobierno Local
DESCRIPTION:Tipo de convocatoria: Ordinaria. \nPrimera convocatoria: 22 de julio de 2024 a las 9.30 horas; segunda convocatoria\, 24 de julio de 2024 a las 9.30 horas. \nAsuntos de la convocatoria: \n\nAprobación del acta de la sesión anterior.\nExpediente 529/2024. Contrataciones – Acuerdo de adjudicación del\ncontrato de servicios por procedimiento negociado sin publicidad\nadjudicación directa a la Unión Musical de Redován de varias\nactuaciones musicales en el municipio de Redován.\nExpediente 764/2023. Contrataciones – Acuerdo de modificación del\ncontrato de suministro/servicios de sonido e iluminación para los\ndiferentes eventos organizados con motivo de las Fiestas Patronales y\nde las concejalías de deportes y cultura del municipio de Redován.\nExpediente 754/2022. Contrataciones – Acuerdo de aprobación 2ª\nprórroga del contrato de suministro/servicio de disparo de fuegos\nartificiales para las diferentes festividades del municipio de Redován.\nExpediente 557/2022. Contrataciones – Acuerdo de aprobación 2ª\nprórroga del contrato de suministro/ servicio de dotación de aseos\nquímicos portátiles para las fiestas y eventos del Ayuntamiento de\nRedován.\nExpediente 759/2021. Contrataciones – Acuerdo de aprobación 3ª\nprórroga del contrato de suministro de material de limpieza y\nproductos químicos para trabajos de mantenimiento y limpieza del\nmunicipio de Redován.\nAsuntos urgentes.\nRuegos y preguntas.
URL:https://www.redovan.es/event/junta-de-gobierno-local-4/
CATEGORIES:Junta de Gobierno
ATTACH;FMTTYPE=image/jpeg:https://www.redovan.es/wp-content/uploads/2024/06/JUNTA-DE-GOBIERNO-LOCAL.jpg
END:VEVENT
BEGIN:VEVENT
DTSTART;TZID=Europe/Madrid:20240710T080000
DTEND;TZID=Europe/Madrid:20240710T170000
DTSTAMP:20260426T055536
CREATED:20240710T115742Z
LAST-MODIFIED:20240710T115742Z
UID:10000009-1720598400-1720630800@www.redovan.es
SUMMARY:Junta de Gobierno Local 12/07/2024
DESCRIPTION:Tipo de convocatoria: Ordinaria. \nFecha y hora: Primera convocatoria\, 12 de julio de 2024 a las 9.30 horas; segunda convocatoria\, 15 de julio de 2024 a las 9.30 horas. \nAsuntos de la convocatoria: \n\nAprobación del acta de la sesión anterior.\nExpediente FACT-2024-1025. Devolución de Facturas – Acuerdo de aprobación de devolución/rechazo de la factura de STV Gestión S.L de la limpieza de las instalaciones municipales correspondiente al mes de junio de 2024.\nExpediente 10/2024_Bonificación Agua pensionista.\nExpediente 315/2024. Concesión Ayudas Bono Educación Infantil 0 a 2 años curso 2023_2024.\nAsuntos urgentes.\nRuegos y preguntas.
URL:https://www.redovan.es/event/junta-de-gobierno-local-12-07-2024-2/
CATEGORIES:Ayuntamiento de Redován,Junta de Gobierno
ATTACH;FMTTYPE=image/jpeg:https://www.redovan.es/wp-content/uploads/2019/04/jgl-redován.jpg
END:VEVENT
BEGIN:VEVENT
DTSTART;TZID=Europe/Madrid:20240628T080000
DTEND;TZID=Europe/Madrid:20240628T170000
DTSTAMP:20260426T055537
CREATED:20240626T092954Z
LAST-MODIFIED:20240626T093125Z
UID:10000007-1719561600-1719594000@www.redovan.es
SUMMARY:Junta de Gobierno Local 28/06/2024
DESCRIPTION:Tipo de convocatoria: Ordinaria. \nFecha y hora: Primera convocatoria\, 28 de junio de 2024 a las 9.30 horas; segunda convocatoria\, 1 de julio de 2024 a las 9.30 horas. \nLugar: Salón de sesiones. \nAsuntos de la convocatoria: \n\nAprobación del acta de la sesión anterior.\nExpediente 508/2023. Contrataciones Patrimoniales – Acuerdo de adjudicación del Contrato de arrendamiento de local/nave en C/ María Cristina nº 15 de Redován para uso de almacenamiento y retirada de vehículos.\nExpediente 503/2024. Aprobación bases Campaña de fomento del Consumo. Bono-Consumo Redován. Anualidad 2024.\nExpediente 349/2023. Contrataciones – Acuerdo de inicio de modificación del Contrato de Servicio de Gestión de Escuela Deportiva Municipal de Verano de Redován.\nAsuntos urgentes.\nRuegos y preguntas.\n\n 
URL:https://www.redovan.es/event/junta-de-gobierno-local-28-06-2024/
CATEGORIES:Ayuntamiento de Redován,Junta de Gobierno
ATTACH;FMTTYPE=image/jpeg:https://www.redovan.es/wp-content/uploads/2024/06/JUNTA-DE-GOBIERNO-LOCAL.jpg
END:VEVENT
BEGIN:VEVENT
DTSTART;TZID=Europe/Madrid:20240614T093000
DTEND;TZID=Europe/Madrid:20240614T113000
DTSTAMP:20260426T055537
CREATED:20240612T080733Z
LAST-MODIFIED:20240612T080733Z
UID:10000005-1718357400-1718364600@www.redovan.es
SUMMARY:Junta de Gobierno Local 14/06/2024
DESCRIPTION:Tipo de convocatoria: Ordinaria. \nFecha y hora: 14 de junio de 2024 a las 9.30; segunda convocatoria\, 17 de junio de 2024 a las 9.30 horas. \nAsuntos de la convocatoria: \n\nAprobación del acta de la sesión anterior.\nExpediente 764/2023. Contrataciones-Acuerdo de aprobación 1ª prórroga del contrato de suministro/servicios de sonido e iluminación para los diferentes eventos organizados con motivo de las Fiestas Patronales y de las concejalías de Deportes y Cultura del municipio de Redován.\nExpediente 653/2023. Contrataciones – Acuerdo de aprobación 1ª prórroga del contrato de servicios de organización y celebración de espectáculos taurinos en las fiestas patronales de Redován.\nExpediente 774/2023. Contrataciones – Acuerdo de aprobación 1ª prórroga del contrato de servicios de ambulancias para los diferentes eventos festivos\, sociales\, culturales y deportivos organizados por el Ayuntamiento de Redován.\nExpediente 545/2023. Contrataciones – Acuerdo de aprobación 1ªprórroga del contrato de suministro/servicio de confección de flor cortada para las diferentes festividades del municipio de Redován.\nExpediente 719/2023. Contrataciones – Acuerdo de aprobación 1ª prórroga del Contrato de Concesión del Servicio de Piscina -Bar en las instalaciones municipales de piscina de verano en Redován.\nAsuntos urgentes.\nRuegos y preguntas.\n\n 
URL:https://www.redovan.es/event/junta-de-gobierno-local-14-06-2024/
CATEGORIES:Ayuntamiento de Redován,Junta de Gobierno
ATTACH;FMTTYPE=image/jpeg:https://www.redovan.es/wp-content/uploads/2024/06/JUNTA-DE-GOBIERNO-LOCAL.jpg
END:VEVENT
BEGIN:VEVENT
DTSTART;TZID=Europe/Madrid:20240531T093000
DTEND;TZID=Europe/Madrid:20240531T120000
DTSTAMP:20260426T055537
CREATED:20240529T161943Z
LAST-MODIFIED:20240529T162120Z
UID:10000004-1717147800-1717156800@www.redovan.es
SUMMARY:Junta de Gobierno Local 31 de mayo de 2024
DESCRIPTION:1ª convocatoria: 31 de mayo de 2024 a las 9:30.\n2ª convocatoria: 3 de junio de 2024 a las 9:30. \n\nAprobación del acta de la sesión anterior.\nExpediente 480/2024. Aprobación solicitud Subvención promoción social y equipamiento anualidad 2024.\nExpediente 496/2024. Aprobación solicitud subvención para Campaña Bono Consumo en el municipio de Redován. Anualidad 2024.\nExpediente 517/2024. Aprobación relación de facturas F/2024/6.\nExpediente 253/2024. Contrataciones – Acuerdo de adjudicación del contrato de servicios de prevención de riesgos laborales del personal del Ayuntamiento de Redován.\nExpediente 543/2021. Contrataciones – Acuerdo de aprobación 3ª prórroga del contrato de suministro/servicio de dotación de infraestructuras para actos y fiestas patronales del Ayuntamiento de Redován.\nAsuntos Urgentes.\nRuegos y Preguntas\n\nCONSULTA DOCUMENTO CONVOCATORIA
URL:https://www.redovan.es/event/junta-de-gobierno-local-31-de-mayo-de-2024/
CATEGORIES:Junta de Gobierno
ATTACH;FMTTYPE=image/jpeg:https://www.redovan.es/wp-content/uploads/2019/04/jgl-redován.jpg
END:VEVENT
END:VCALENDAR