BEGIN:VCALENDAR
VERSION:2.0
PRODID:-//Ayuntamiento de Redován - ECPv6.15.15//NONSGML v1.0//EN
CALSCALE:GREGORIAN
METHOD:PUBLISH
X-WR-CALNAME:Ayuntamiento de Redován
X-ORIGINAL-URL:https://www.redovan.es
X-WR-CALDESC:Eventos para Ayuntamiento de Redován
REFRESH-INTERVAL;VALUE=DURATION:PT1H
X-Robots-Tag:noindex
X-PUBLISHED-TTL:PT1H
BEGIN:VTIMEZONE
TZID:Europe/Madrid
BEGIN:DAYLIGHT
TZOFFSETFROM:+0100
TZOFFSETTO:+0200
TZNAME:CEST
DTSTART:20230326T010000
END:DAYLIGHT
BEGIN:STANDARD
TZOFFSETFROM:+0200
TZOFFSETTO:+0100
TZNAME:CET
DTSTART:20231029T010000
END:STANDARD
BEGIN:DAYLIGHT
TZOFFSETFROM:+0100
TZOFFSETTO:+0200
TZNAME:CEST
DTSTART:20240331T010000
END:DAYLIGHT
BEGIN:STANDARD
TZOFFSETFROM:+0200
TZOFFSETTO:+0100
TZNAME:CET
DTSTART:20241027T010000
END:STANDARD
BEGIN:DAYLIGHT
TZOFFSETFROM:+0100
TZOFFSETTO:+0200
TZNAME:CEST
DTSTART:20250330T010000
END:DAYLIGHT
BEGIN:STANDARD
TZOFFSETFROM:+0200
TZOFFSETTO:+0100
TZNAME:CET
DTSTART:20251026T010000
END:STANDARD
END:VTIMEZONE
BEGIN:VEVENT
DTSTART;TZID=Europe/Madrid:20240629T190000
DTEND;TZID=Europe/Madrid:20240629T233000
DTSTAMP:20260426T042100
CREATED:20240612T111322Z
LAST-MODIFIED:20240612T111322Z
UID:10000006-1719687600-1719703800@www.redovan.es
SUMMARY:Tardeo diverso
DESCRIPTION:Tardeo Diverso en la Plaza Miguel Hernández de Redován.
URL:https://www.redovan.es/event/tardeo-diverso/
CATEGORIES:Bienestar social,Fiestas
ATTACH;FMTTYPE=image/jpeg:https://www.redovan.es/wp-content/uploads/2024/06/WhatsApp-Image-2024-06-05-at-09.57.55.jpeg
END:VEVENT
END:VCALENDAR